BEGIN:VCALENDAR
VERSION:2.0
PRODID:icalendar-ruby
CALSCALE:GREGORIAN
METHOD:PUBLISH
BEGIN:VEVENT
DTSTAMP:20260419T143949Z
UID:5-397472@longspeakchurch.com
DTSTART:20260726T163000Z
DTEND:20260726T173000Z
CLASS:PUBLIC
CREATED:20260419T061445
DESCRIPTION:Sunday Worship
LAST-MODIFIED:20260419T061445
LOCATION:
SUMMARY:Sunday Worship
URL;VALUE=URI:https://www.longspeakchurch.com/events/sunday-worship/2026-07
 -26
END:VEVENT
END:VCALENDAR
