BEGIN:VCALENDAR
VERSION:2.0
PRODID:icalendar-ruby
CALSCALE:GREGORIAN
METHOD:PUBLISH
BEGIN:VEVENT
DTSTAMP:20260419T155439Z
UID:5-397473@longspeakchurch.com
DTSTART:20260802T163000Z
DTEND:20260802T173000Z
CLASS:PUBLIC
CREATED:20260419T061445
DESCRIPTION:Sunday Worship
LAST-MODIFIED:20260419T061445
LOCATION:
SUMMARY:Sunday Worship
URL;VALUE=URI:https://www.longspeakchurch.com/events/sunday-worship/2026-08
 -02
END:VEVENT
END:VCALENDAR
