BEGIN:VCALENDAR
VERSION:2.0
PRODID:icalendar-ruby
CALSCALE:GREGORIAN
METHOD:PUBLISH
BEGIN:VEVENT
DTSTAMP:20260419T172851Z
UID:5-397734@longspeakchurch.com
DTSTART:20260809T163000Z
DTEND:20260809T173000Z
CLASS:PUBLIC
CREATED:20260419T095646
DESCRIPTION:Sunday Worship
LAST-MODIFIED:20260419T095646
LOCATION:
SUMMARY:Sunday Worship
URL;VALUE=URI:https://www.longspeakchurch.com/events/sunday-worship/2026-08
 -09
END:VEVENT
END:VCALENDAR
