BEGIN:VCALENDAR
VERSION:2.0
PRODID:icalendar-ruby
CALSCALE:GREGORIAN
METHOD:PUBLISH
BEGIN:VEVENT
DTSTAMP:20260419T191141Z
UID:5-397735@longspeakchurch.com
DTSTART:20260816T163000Z
DTEND:20260816T173000Z
CLASS:PUBLIC
CREATED:20260419T095646
DESCRIPTION:Sunday Worship
LAST-MODIFIED:20260419T095646
LOCATION:
SUMMARY:Sunday Worship
URL;VALUE=URI:https://www.longspeakchurch.com/events/sunday-worship/2026-08
 -16
END:VEVENT
END:VCALENDAR
