BEGIN:VCALENDAR
VERSION:2.0
PRODID:icalendar-ruby
CALSCALE:GREGORIAN
METHOD:PUBLISH
BEGIN:VEVENT
DTSTAMP:20260419T202703Z
UID:5-397996@longspeakchurch.com
DTSTART:20260823T163000Z
DTEND:20260823T173000Z
CLASS:PUBLIC
CREATED:20260419T133915
DESCRIPTION:Sunday Worship
LAST-MODIFIED:20260419T133915
LOCATION:
SUMMARY:Sunday Worship
URL;VALUE=URI:https://www.longspeakchurch.com/events/sunday-worship/2026-08
 -23
END:VEVENT
END:VCALENDAR
