BEGIN:VCALENDAR
VERSION:2.0
PRODID:icalendar-ruby
CALSCALE:GREGORIAN
METHOD:PUBLISH
BEGIN:VEVENT
DTSTAMP:20260419T232552Z
UID:5-398259@longspeakchurch.com
DTSTART:20260906T163000Z
DTEND:20260906T173000Z
CLASS:PUBLIC
CREATED:20260419T172202
DESCRIPTION:Sunday Worship
LAST-MODIFIED:20260419T172202
LOCATION:
SUMMARY:Sunday Worship
URL;VALUE=URI:https://www.longspeakchurch.com/events/sunday-worship/2026-09
 -06
END:VEVENT
END:VCALENDAR
