BEGIN:VCALENDAR
VERSION:2.0
PRODID:icalendar-ruby
CALSCALE:GREGORIAN
METHOD:PUBLISH
BEGIN:VEVENT
DTSTAMP:20260423T130804Z
UID:5-403743@longspeakchurch.com
DTSTART:20260927T163000Z
DTEND:20260927T173000Z
CLASS:PUBLIC
CREATED:20260423T054602
DESCRIPTION:Sunday Worship
LAST-MODIFIED:20260423T054602
LOCATION:
SUMMARY:Sunday Worship
URL;VALUE=URI:https://www.longspeakchurch.com/events/sunday-worship/2026-09
 -27
END:VEVENT
END:VCALENDAR
