BEGIN:VCALENDAR
VERSION:2.0
PRODID:icalendar-ruby
CALSCALE:GREGORIAN
METHOD:PUBLISH
BEGIN:VEVENT
DTSTAMP:20260423T171816Z
UID:5-404007@longspeakchurch.com
DTSTART:20261018T163000Z
DTEND:20261018T173000Z
CLASS:PUBLIC
CREATED:20260423T083923
DESCRIPTION:Sunday Worship
LAST-MODIFIED:20260423T083923
LOCATION:
SUMMARY:Sunday Worship
URL;VALUE=URI:https://www.longspeakchurch.com/events/sunday-worship/2026-10
 -18
END:VEVENT
END:VCALENDAR
