BEGIN:VCALENDAR
VERSION:2.0
PRODID:icalendar-ruby
CALSCALE:GREGORIAN
METHOD:PUBLISH
BEGIN:VEVENT
DTSTAMP:20260423T184857Z
UID:5-404269@longspeakchurch.com
DTSTART:20261025T163000Z
DTEND:20261025T173000Z
CLASS:PUBLIC
CREATED:20260423T113446
DESCRIPTION:Sunday Worship
LAST-MODIFIED:20260423T113446
LOCATION:
SUMMARY:Sunday Worship
URL;VALUE=URI:https://www.longspeakchurch.com/events/sunday-worship/2026-10
 -25
END:VEVENT
END:VCALENDAR
