BEGIN:VCALENDAR
VERSION:2.0
PRODID:icalendar-ruby
CALSCALE:GREGORIAN
METHOD:PUBLISH
BEGIN:VEVENT
DTSTAMP:20260423T201101Z
UID:5-404270@longspeakchurch.com
DTSTART:20261101T173000Z
DTEND:20261101T183000Z
CLASS:PUBLIC
CREATED:20260423T113446
DESCRIPTION:Sunday Worship
LAST-MODIFIED:20260423T113446
LOCATION:
SUMMARY:Sunday Worship
URL;VALUE=URI:https://www.longspeakchurch.com/events/sunday-worship/2026-11
 -01
END:VEVENT
END:VCALENDAR
